BEGIN:VCALENDAR
VERSION:2.0
PRODID:Imitheme.com 
BEGIN:VEVENT
UID:20260424T054209965154463
DTSTAMP;TZID=UTC:2026-04-24 05:42:09
DTSTART;TZID=America/Los_Angeles:20201117T163000
DTEND;TZID=America/Los_Angeles:20201117T173000
SUMMARY:After School Art Lessons
LOCATION:
DESCRIPTION:
URL:https://thedragonflyartstudio.com/eventer/after-school-art-lessons/edate/2020-11-17
END:VEVENT
END:VCALENDAR
