BEGIN:VCALENDAR
VERSION:2.0
PRODID:Imitheme.com 
BEGIN:VEVENT
UID:20260424T0430011713965245
DTSTAMP;TZID=UTC:2026-04-24 04:30:01
DTSTART;TZID=America/Los_Angeles:20201216T170000
DTEND;TZID=America/Los_Angeles:20201216T190000
SUMMARY:INTRO TO DRAWING - STILL-LIFE & PORTRAIT
LOCATION:
DESCRIPTION:Join us at The Dragonfly for a 6-week Introduction to Drawing course! *** NEW CLASS INTRO PRICING - NOW ONLY $155 $129! *** Click BOOK ONLINE BELOW or CLICK HERE TO REGISTER This course will be 2 hours EACH WEDNESDAY EVENING 5 to 7pm starting December 16th, 2020. Learn the basic skills of drawing, including how to draw a Still Life, how to add Value, also how to draw a Self-Portrait and so much more! In this class you will be provided with charcoal pencils, both white and black, tan toned paper, an eraser and blending stumps. There will be 3 projects for this course. The first project will be exploring how light interacts with different objects, and learning how to draw objects with highlights and shadows. The second project will be a Still-Life, using some of your favorite objects that you find in your home. The third project will be a Self-Portrait - a drawing of yourself. If you have ever been interested in vamping up your drawing skills, come join us and let’s have a good time! Age Level - 14 and up, or at instructor discretion Cost: $155 $129, supplies included
URL:https://thedragonflyartstudio.com/eventer/intro-to-drawing-still-life-portrait/edate/2020-12-16
END:VEVENT
END:VCALENDAR
