BEGIN:VCALENDAR
VERSION:2.0
PRODID:Imitheme.com 
BEGIN:VEVENT
UID:20260424T1407511193975625
DTSTAMP;TZID=UTC:2026-04-24 14:07:51
DTSTART;TZID=America/Los_Angeles:20210410T130000
DTEND;TZID=America/Los_Angeles:20210410T160000
SUMMARY:The Art of BOOKMAKING Workshop at The Dragonfly – April 10th – 1 to 4pm
LOCATION:
DESCRIPTION:NEW at THE DRAGONFLY! The Art of BOOKMAKING Workshop April 10th - 1 to 4pm Is your weekend \"booked\"? Come join us for a fun class of book making! During this workshop, we\'ll learn different book making styles and will get experimental with cover designs! This will be a unique art class so come ready to create a fun sketchbook/journal! Cost per participant: $42 Age level: 10 and up, under 16 must be accompanied by an adult who is also registered. Questions? Text us at 757-324-5489 any time, or use the form below to send us a message. 
URL:https://thedragonflyartstudio.com/eventer/the-art-of-bookmaking-workshop-at-the-dragonfly-april-10th-1-to-4pm/edate/2021-04-10
END:VEVENT
END:VCALENDAR
