BEGIN:VCALENDAR
VERSION:2.0
PRODID:Imitheme.com 
BEGIN:VEVENT
UID:20260424T0429191335235369
DTSTAMP;TZID=UTC:2026-04-24 04:29:19
DTSTART;TZID=America/Los_Angeles:20210807T130000
DTEND;TZID=America/Los_Angeles:20210807T160000
SUMMARY:INCORPORATING COLLAGE & PHOTOS INTO ENCAUSTIC - Therese Cook Workshop - Aug 7th 1pm
LOCATION:
DESCRIPTION:SPECIAL EVENT - Limited Space Available INCORPORATING  COLLAGE & PHOTOS INTO ENCAUSTIC A Workshop with visiting artist THERESE COOKE REGISTER TODAY - Click the \"BOOK TICKETS\" button above   When: August 7th 1 to 4pm Cost: $85 per person Age: 16 and up Learn the basics of working with encaustic wax, and how to combine and collage mixed media and photos with encaustic painting from encaustic artist THERESE COOK. This workshop is great for those new to encaustics or experienced artists that want to do something different with the medium. You will complete several paintings in this workshop. All encaustic supplies will be provided. Students must supply the following additional items for this workshop: - 2-4 wood panels, no larger than 8x10 - Assorted collage materials: papers, tissue papers, sewing patterns, napkins, etc. - Photos printed on ink jet printer, ideally with interesting objects, people or animals large enough to cut out to collage - Glue sticks Favorite stencils if you have some About Therese Cook: \"I have always been fascinated with color and texture and inspired by all the beauty that surrounds me every day. I found my creative outlet in interior design years ago and then started to create art, primarily using collage. In 2008, I attended an encaustic workshop and have been hooked on the process ever since.  I love the way the wax feels and smells, the versatility of it, layering and carving back, and the luminosity of the finished pieces. I sometimes start with an end in mind but many times just let the process and my intuition take over and let the wax do what it wishes. \"   LIMITED SPACE IS AVAILABLE REGISTER TODAY - Click the \"BOOK TICKETS\" button above Click Below To View Artwork By Therese Cook: 
URL:https://thedragonflyartstudio.com/eventer/incorporating-collage-photos-into-encaustic-therese-cook-workshop-aug-7th-1pm/edate/2021-08-07
END:VEVENT
END:VCALENDAR
