BEGIN:VCALENDAR
VERSION:2.0
PRODID:Imitheme.com 
BEGIN:VEVENT
UID:20260424T055603364897573
DTSTAMP;TZID=UTC:2026-04-24 05:56:03
DTSTART;TZID=America/Los_Angeles:20210213T110000
DTEND;TZID=America/Los_Angeles:20210213T130000
SUMMARY:VALENTINE'S DAY CLAY HAND-BUILDING WORKSHOP - Feb 13th - 11am
LOCATION:
DESCRIPTION:SPECIAL EVENT! VALENTINE\'S DAY CLAY HAND-BUILDING WORKSHOP SATURDAY FEB 13th - 11am to 1pm Join us at The Dragonfly in our Pottery Studio for a fun and creative Valentine\'s Day workshop to create a special one-of-a-kind keepsake that you\'ll cherish for years to come! You\'ll experiment with some clay and then create a ceramic heart design that you can customize any way you\'d like. Check out the pictures below for some ideas! The cost is only $45 per couple, and kids are welcome too, making it a fantastic parent/child class too! Space is very limited to only 6 COUPLES - so reserve your spot today! Questions? Text or call us at 757-324-5489 or use the form below to send us a message - see you there! 
URL:https://thedragonflyartstudio.com/eventer/valentines-day-clay-hand-building-workshop-feb-13th-11am/edate/2021-02-13
END:VEVENT
END:VCALENDAR
