BEGIN:VCALENDAR
VERSION:2.0
PRODID:Imitheme.com 
BEGIN:VEVENT
UID:20260422T0559271073435674
DTSTAMP;TZID=UTC:2026-04-22 05:59:27
DTSTART;TZID=America/Los_Angeles:20211005T190000
DTEND;TZID=America/Los_Angeles:20211005T210000
SUMMARY:Beginner Pottery Wheel at The Dragonfly - Tuesdays 7pm - Oct 5th thru Nov 9th
LOCATION:
DESCRIPTION:  This is our TUESDAY EVENING class starting October 5th and running every Tuesday 7 to 9pm through November 9th. JOIN US IN OUR POTTERY STUDIO FOR A 6 WEEK STUDIO COURSE, 2 HOURS EACH TUESDAY EVENING STARTING AT 7PM, AS YOU EXPLORE THE POSSIBILITIES OF CREATING ON THE WHEEL! LEARN THE BASICS OF WORKING WITH CLAY AND JUMP RIGHT ON THE WHEEL TO LEARN AND PRACTICE VARIOUS THROWING TECHNIQUES.D EACH STUDENT HAS USE OF A WHEEL FOR THE ENTIRE CLASS – NO WAITING OR TAKING TURNS! THE COURSE FEE INCLUDES 12 HOURS OF HANDS-ON INSTRUCTION TIME, ALL BISQUE AND GLAZE KILN FIRINGS, PLUS ALL OF THESE EXTRAS – FOR NO ADDITIONAL COST: - 8 Piece Clay Tool Kit – Use during class and beyond! - Durable, high-quality black apron with pocket - Bag of clay – plenty to make projects during class - Glazes – Large selection of over 50+ colors including specialty glazes, all available for the pieces you create during class! - Open Studio Sessions – As a Dragonfly ceramics student, you get access to our Open Studio sessions – 2 sessions come completely free with your class enrollment!  ADDITIONAL CLAY IS ALWAYS AVAILABLE FOR SALE AT THE STUDIO AT DISCOUNTED RATES FOR STUDENTS – ASK YOUR INSTRUCTOR FOR DETAILS! AGE LEVEL: 10 AND UP – 14 AND UNDER MUST BE ACCOMPANIED BY A PARENT OR GUARDIAN COST: $188 FOR 6 THURSDAY SESSIONS QUESTIONS? SEND US YOUR THOUGHTS USING THE FORM BELOW, OR TEXT 757-324-5489.   Questions? Send us your thoughts using the form below, or text 757-324-5489. 
URL:https://thedragonflyartstudio.com/eventer/beginner-pottery-wheel-at-the-dragonfly-tuesdays-7pm-oct-5th-thru-nov-9th/edate/2021-10-05
END:VEVENT
END:VCALENDAR
