BEGIN:VCALENDAR
VERSION:2.0
PRODID:Imitheme.com 
BEGIN:VEVENT
UID:20260422T1227031419108995
DTSTAMP;TZID=UTC:2026-04-22 12:27:03
DTSTART;TZID=America/Los_Angeles:20220409T070000
DTEND;TZID=America/Los_Angeles:20220409T080000
SUMMARY:TEST EVENT - INTRO TO POTTERY WHEEL - Saturdays 9 to 11am - TEST EVENT
LOCATION:
DESCRIPTION:Our SATURDAY MORNING class begins January 22nd and runs every Saturday morning 9 to 11am through February 26th. JOIN US IN OUR POTTERY STUDIO FOR A 6 WEEK STUDIO COURSE, 2 HOURS EACH SATURDAY MORNING STARTING AT 9am, AS YOU EXPLORE THE POSSIBILITIES OF CREATING ON THE WHEEL! LEARN THE BASICS OF WORKING WITH CLAY AND JUMP RIGHT ON THE WHEEL TO LEARN AND PRACTICE VARIOUS THROWING TECHNIQUES.D EACH STUDENT HAS USE OF A WHEEL FOR THE ENTIRE CLASS – NO WAITING OR TAKING TURNS! THE COURSE FEE INCLUDES 12 HOURS OF HANDS-ON INSTRUCTION TIME, ALL BISQUE AND GLAZE KILN FIRINGS, PLUS ALL OF THESE EXTRAS – FOR NO ADDITIONAL COST: - 8 Piece Clay Tool Kit – Use during class and beyond! - Durable, high-quality black apron with pocket - Bag of clay – plenty to make projects during class - Glazes – Large selection of over 50+ colors including specialty glazes, all available for the pieces you create during class! - Open Studio Sessions – As a Dragonfly ceramics student, you get access to our Open Studio sessions – 2 sessions come completely free with your class enrollment!  ADDITIONAL CLAY IS ALWAYS AVAILABLE FOR SALE AT THE STUDIO AT DISCOUNTED RATES FOR STUDENTS – ASK YOUR INSTRUCTOR FOR DETAILS! AGE LEVEL: 10 AND UP – 14 AND UNDER MUST BE ACCOMPANIED BY A PARENT OR GUARDIAN COST: $188 FOR 6 SATURDAY SESSIONS QUESTIONS? SEND US YOUR THOUGHTS USING THE FORM BELOW, OR TEXT 757-324-5489.   Questions? Send us your thoughts using the form below, or text 757-324-5489. 
URL:https://thedragonflyartstudio.com/eventer/test-event-intro-to-pottery-wheel-saturdays-9-to-11am-test-event/edate/2022-04-09
END:VEVENT
END:VCALENDAR
