BEGIN:VCALENDAR
VERSION:2.0
PRODID:Imitheme.com 
BEGIN:VEVENT
UID:20260419T121654768748244
DTSTAMP;TZID=UTC:2026-04-19 12:16:54
DTSTART;TZID=America/Los_Angeles:20220426T140000
DTEND;TZID=America/Los_Angeles:20220426T160000
SUMMARY:INTRO TO POTTERY WHEEL - TUESDAY AFTERNOONS 2pm to 4pm - April 26th through May 31st
LOCATION:1511 Colley Avenue\, Norfolk\, VA  23517
DESCRIPTION:  Our TUESDAY AFTERNOONS 2pm to 4pm class begins April 21 and runs every Tuesday  through May 31. JOIN US IN OUR POTTERY STUDIO FOR A 6 WEEK STUDIO COURSE, 2 HOURS EACH TUESDAY AFTERNOON STARTING AT 2PM, AS YOU EXPLORE THE POSSIBILITIES OF CREATING ON THE WHEEL! LEARN THE BASICS OF WORKING WITH CLAY AND JUMP RIGHT ON THE WHEEL TO LEARN AND PRACTICE VARIOUS THROWING TECHNIQUES.D EACH STUDENT HAS USE OF A WHEEL FOR THE ENTIRE CLASS – NO WAITING OR TAKING TURNS! THE COURSE FEE INCLUDES 12 HOURS OF HANDS-ON INSTRUCTION TIME, ALL BISQUE AND GLAZE KILN FIRINGS, PLUS ALL OF THESE EXTRAS – FOR NO ADDITIONAL COST: - 8 Piece Clay Tool Kit – Use during class and beyond! - Durable, high-quality black apron with pocket - Bag of clay – plenty to make projects during class - Glazes – Large selection of over 50+ colors including specialty glazes, all available for the pieces you create during class! - Open Studio Sessions – As a Dragonfly ceramics student, you get access to our Open Studio sessions – 2 sessions come completely free with your class enrollment!  ADDITIONAL CLAY IS ALWAYS AVAILABLE FOR SALE AT THE STUDIO AT DISCOUNTED RATES FOR STUDENTS – ASK YOUR INSTRUCTOR FOR DETAILS! AGE LEVEL: 10 AND UP – 14 AND UNDER MUST BE ACCOMPANIED BY A PARENT OR GUARDIAN WHO IS ALSO REGISTERED FOR THE CLASS COST: $188 FOR 6 TUESDAY SESSIONS plus 2 OPEN STUDIO SESSIONS QUESTIONS? SEND US YOUR THOUGHTS USING THE FORM BELOW, OR TEXT 757-324-5489.   Questions? Send us your thoughts using the form below, or text 757-324-5489. 
URL:https://thedragonflyartstudio.com/eventer/intro-to-pottery-wheel-tuesday-afternoons-2pm-to-4pm-april-26th-through-may-31st/edate/2022-04-26
END:VEVENT
END:VCALENDAR
