BEGIN:VCALENDAR
VERSION:2.0
PRODID:Imitheme.com 
BEGIN:VEVENT
UID:20260419T104923473642964
DTSTAMP;TZID=UTC:2026-04-19 10:49:23
DTSTART;TZID=America/Los_Angeles:20220421T163000
DTEND;TZID=America/Los_Angeles:20220421T183000
SUMMARY:INTRO TO POTTERY WHEEL - Thursday Afternoons 4:30 to 6:30 - April 21 thru May 26
LOCATION:1511 Colley Avenue\, Norfolk\, VA  23517
DESCRIPTION:  Our THURSDAY AFTERNOON class starts April 21 and runs every Thursday through May 26. Join us in our pottery studio for a 6 week studio course, 2 hours each Thursday afternoon starting at 4:30pm, as you explore the possibilities of creating on the wheel! Learn the basics of working with clay and jump right on the wheel to learn and practice various throwing techniques. Each student has use of a wheel for the entire class - no waiting or taking turns! The course fee includes 12 hours of hands-on instruction time, all bisque and glaze kiln firings, PLUS ALL OF THESE EXTRAS - FOR NO ADDITIONAL COST: - 8 Piece Clay Tool Kit - Use during class and beyond! - Durable, high-quality black apron with pocket - Bag of clay - plenty to make projects during class - Glazes - Large selection of over 50+ colors including specialty glazes, all available for the pieces you create during class! - Open Studio Sessions - As a Dragonfly ceramics student, you get access to our Open Studio sessions - 2 sessions come completely free with your class enrollment!  Additional clay is always available for sale at the studio at discounted rates for students - ask your instructor for details! Age Level: 10 and up - 14 and under must be accompanied by a parent or guardian who is also registered for this class Cost: $188 for 6 Thursday sessions Questions? Send us your thoughts using the form below, or text 757-324-5489.  
URL:https://thedragonflyartstudio.com/eventer/intro-to-pottery-wheel-thursday-afternoons-430-to-630-april-21-thru-may-26/edate/2022-04-21
END:VEVENT
END:VCALENDAR
