BEGIN:VCALENDAR
VERSION:2.0
PRODID:Imitheme.com 
BEGIN:VEVENT
UID:20260422T1017111863699220
DTSTAMP;TZID=UTC:2026-04-22 10:17:11
DTSTART;TZID=America/Los_Angeles:20220430T000000
DTEND;TZID=America/Los_Angeles:20220430T010000
SUMMARY:test event
LOCATION:
DESCRIPTION:This is a test event to see if the error still happens
URL:https://thedragonflyartstudio.com/eventer/test-event/edate/2022-04-30
END:VEVENT
END:VCALENDAR
