BEGIN:VCALENDAR
VERSION:2.0
PRODID:Imitheme.com 
BEGIN:VEVENT
UID:20260419T092746799203484
DTSTAMP;TZID=UTC:2026-04-19 09:27:46
DTSTART;TZID=America/Los_Angeles:20220507T150000
DTEND;TZID=America/Los_Angeles:20220507T180000
SUMMARY:INTRODUCTION TO ENCAUSTIC WAX PAINTING with Samantha Wegener - May 7th
LOCATION:1511 Colley Avenue\, Norfolk\, VA  23517
DESCRIPTION:THIS EVENT IS SOLD OUT - PLEASE TEXT US AT 757-324-5489 TO BE ADDED TO THE WAITING LIST Introduction to Encaustic Wax Painting with Samantha Wegener ***Special 3-Hour Workshop*** SPACE IS LIMITED Questions? Text us at 757-324-5489 Saturday May 7 - 3 to 6pm This beginner encaustic workshop will give participants a hands-on introduction to the encaustic process. Your instructor, Samantha Wegener, will provide a demonstration of basic technique followed by hands on studio time. You will have a chance to explore encaustic tools in a safe comfortable work environment. This workshop is ideal for anyone interested in encaustic painting. The Workshop focuses on materials, tools, safe studio practices, collage, stencils, incising and transfer techniques. You will also have ample opportunities to experiment with techniques and create finished pieces. Student will complete 1 to 4 finished works of art. Click the GALLERY tab at the bottom for more pictures! Class size limited! No previous drawing or painting experience necessary. STUDENTS WILL LEARN - Safe studio set up and practices - Use of tools and implements - Encaustic materials: paints, medium, supports, collage materials, etc. - Encaustic techniques: paint application, layering, fusing, color mixing, creating texture, scraping/incising, collage and embedding, image transfer, masking and stencils - Students will leave with 1 to 4 finished pieces No experience is necessary for this class. Most supplies will be provided. PRICE: $75 class fee encompasses 3 hours of instruction and studio time. Age Level: 16 and up. Kids age 12 to 15 may attend with a parent/guardian who is also registered and taking the class. View our class registration, cancellation, and other policies here. Questions? Text us any time at 757-324-5489!
URL:https://thedragonflyartstudio.com/eventer/introduction-to-encaustic-wax-painting-with-samantha-wegener-may-7th/edate/2022-05-07
END:VEVENT
END:VCALENDAR
