BEGIN:VCALENDAR
VERSION:2.0
PRODID:Imitheme.com 
BEGIN:VEVENT
UID:20260420T0848211398286442
DTSTAMP;TZID=UTC:2026-04-20 08:48:21
DTSTART;TZID=America/Los_Angeles:20220816T190000
DTEND;TZID=America/Los_Angeles:20220816T210000
SUMMARY:BEGINNER POTTERY WHEEL - Tuesdays 7pm To 9pm - August 16th through September 20th
LOCATION:1511 Colley Avenue\, Norfolk\, VA  23517
DESCRIPTION:Our TUESDAY EVENING class begins August 16 and runs every Tuesday 7 to 9pm through September 20th. JOIN US IN OUR POTTERY STUDIO FOR A 6 WEEK STUDIO COURSE, 2 HOURS EACH TUESDAY EVENING STARTING AT 7PM, AS YOU EXPLORE THE POSSIBILITIES OF CREATING ON THE WHEEL! LEARN THE BASICS OF WORKING WITH CLAY AND JUMP RIGHT ON THE WHEEL TO LEARN AND PRACTICE VARIOUS THROWING TECHNIQUES.D EACH STUDENT HAS USE OF A WHEEL FOR THE ENTIRE CLASS – NO WAITING OR TAKING TURNS! THE COURSE FEE INCLUDES 12 HOURS OF HANDS-ON INSTRUCTION TIME, ALL BISQUE AND GLAZE KILN FIRINGS, PLUS ALL OF THESE EXTRAS – FOR NO ADDITIONAL COST: - 8 Piece Clay Tool Kit – Use during class and beyond! - Bag of clay – plenty to make projects during class - Glazes – Large selection of over 50+ colors including specialty glazes, all available for the pieces you create during class! - Open Studio Sessions – As a Dragonfly ceramics student, you get access to our Open Studio sessions – 2 Friday or Saturday sessions come completely free with your class enrollment!  ADDITIONAL CLAY IS ALWAYS AVAILABLE FOR SALE AT THE STUDIO AT DISCOUNTED RATES FOR STUDENTS – ASK YOUR INSTRUCTOR FOR DETAILS! AGE LEVEL: 10 AND UP – 14 AND UNDER MUST BE ACCOMPANIED BY A PARENT OR GUARDIAN COST: $188 FOR 6 TUESDAY SESSIONS & 2 FRIDAY OR SATURDAY OPEN STUDIO SESSIONS QUESTIONS? SEND US YOUR THOUGHTS USING THE FORM BELOW, OR TEXT 757-324-5489.   Questions? Send us your thoughts using the form below, or text 757-324-5489. 
URL:https://thedragonflyartstudio.com/eventer/beginner-pottery-wheel-tuesdays-7pm-to-9pm-august-16th-through-september-20th/edate/2022-08-16
END:VEVENT
END:VCALENDAR
