BEGIN:VCALENDAR
VERSION:2.0
PRODID:Imitheme.com 
BEGIN:VEVENT
UID:20260420T1541592053898305
DTSTAMP;TZID=UTC:2026-04-20 15:41:59
DTSTART;TZID=America/Los_Angeles:20220914T190000
DTEND;TZID=America/Los_Angeles:20220914T210000
SUMMARY:INTRO TO POTTERY WHEEL - WEDNESDAYS 7pm to 9pm - SEPTEMBER 14 THROUGH OCTOBER 19
LOCATION:1511 Colley Avenue\, Norfolk\, VA  23517
DESCRIPTION:INTRO TO POTTERY WHEEL - WEDNESDAYS 7 to 9pm Our WEDNESDAY EVENING class begins SEPTEMBER 14 and is held every Wednesday through OCTOBER 19. Join us in our pottery studio for a 6 week studio course, 2 hours each Wednesday evening starting at 7pm, as you explore the possibilities of creating on the wheel! Learn the basics of working with clay and jump right on the wheel to learn and practice various throwing techniques! Each student has use of a wheel for the entire class - no waiting or taking turns! The course fee includes 12 hours of hands-on instruction time, all bisque and glaze kiln firings, PLUS ALL OF THESE EXTRAS - FOR NO ADDITIONAL COST: - Bag of clay - plenty to make projects during class - Glazes - Large selection of over 50+ colors including specialty glazes, all available for the pieces you create during class! - Open Studio Sessions - As a Dragonfly ceramics student, you get access to our Open Studio sessions - 2 Friday or Saturday sessions come completely free with your class enrollment! Additional clay is always available for sale at the studio at discounted rates for students - ask your instructor for details! Age Level: 10 and up - 14 and under must be accompanied by a parent or guardian who is also taking the class. Cost: $199 for 6 Wednesday sessions + 2 Friday or Saturday Open Studio sessions. Questions? Send us your thoughts using the form below, or text 757-324-5489. 
URL:https://thedragonflyartstudio.com/eventer/intro-to-pottery-wheel-wednesdays-7pm-to-9pm-september-14-through-october-19/edate/2022-09-14
END:VEVENT
END:VCALENDAR
