BEGIN:VCALENDAR
VERSION:2.0
PRODID:Imitheme.com 
BEGIN:VEVENT
UID:20260420T1217341195682685
DTSTAMP;TZID=UTC:2026-04-20 12:17:34
DTSTART;TZID=America/Los_Angeles:20220912T183000
DTEND;TZID=America/Los_Angeles:20220912T203000
SUMMARY:BEGINNER AND INTERMEDIATE POTTERY WHEEL - Monday Evenings - September 19 through October 31
LOCATION:1511 Colley Avenue\, Norfolk\, VA  23517
DESCRIPTION:Our MONDAY NIGHT class starts SEPTEMBER 19 from 6:30 to 8:30, and is held every Monday through October 31. There will be no class on October 10, Columbus Day. Join us in our pottery studio for a 6 week studio course for the BEGINNER or INTERMEDIATE level potter, 2 hours each Monday evening starting September 19 at 6:30pm, and running through October 31, as you explore the possibilities of creating on the wheel! Learn the basics of working with clay and jump right on the wheel to learn and practice various throwing techniques! Each student has use of a wheel for the entire class - no waiting or taking turns! THIS CLASS IS ALSO FOR THE INTERMEDIATE LEVEL POTTER WHO ALREADY HAS SOME EXPERIENCE, BUT WANTS TO TAKE THEIR CRAFT TO THE NEXT LEVEL! The course fee includes 12 hours of hands-on instruction time, all bisque and glaze kiln firings, PLUS ALL OF THESE EXTRAS - FOR NO ADDITIONAL COST: - Bag of clay - plenty to make projects during class - Glazes - Large selection of over 50+ colors including specialty glazes, all available for the pieces you create during class! - Open Studio Sessions - As a Dragonfly ceramics student, you get access to our Open Studio sessions - 2 Friday or Saturday sessions come completely free with your class enrollment! Additional clay is always available for sale at the studio at discounted rates for students - ask your instructor for details! Age Level: 16 and up - under 18 must be accompanied by a parent or guardian Cost: $199 for 6 Monday sessions plus 2 Friday or Saturday Open Studio Sessions. Questions? Send us your thoughts using the form below, or text 757-324-5489.
URL:https://thedragonflyartstudio.com/eventer/beginner-and-intermediate-pottery-wheel-monday-evenings-september-19-through-october-31/edate/2022-09-12
END:VEVENT
END:VCALENDAR
