BEGIN:VCALENDAR
VERSION:2.0
PRODID:Imitheme.com 
BEGIN:VEVENT
UID:20260422T1343082036932871
DTSTAMP;TZID=UTC:2026-04-22 13:43:08
DTSTART;TZID=America/Los_Angeles:20220117T183000
DTEND;TZID=America/Los_Angeles:20220117T203000
SUMMARY:BEGINNER & INTERMEDIATE POTTERY WHEEL - MONDAY EVENINGS - January 17th Thru February 21st
LOCATION:
DESCRIPTION:THIS CLASS IS SOLD OUT - TEXT 757-324-5489 TO SEE IF SPACE HAS OPENED UP OR TO BE ADDED TO THE WAITING LIST Our MONDAY NIGHT class starts JANUARY 17th 6:30 to 8:30, and is held every Monday through February 21st. Join us in our pottery studio for a 6 week studio course for the BEGINNER or INTERMEDIATE level potter, 2 hours each Monday evening starting December 6th at 6:30pm, and running through January 10th, as you explore the possibilities of creating on the wheel! Learn the basics of working with clay and jump right on the wheel to learn and practice various throwing techniques! Each student has use of a wheel for the entire class - no waiting or taking turns! THIS CLASS IS ALSO FOR THE INTERMEDIATE LEVEL POTTER WHO ALREADY HAS SOME EXPERIENCE, BUT WANTS TO TAKE THEIR CRAFT TO THE NEXT LEVEL! The course fee includes 12 hours of hands-on instruction time, all bisque and glaze kiln firings, PLUS ALL OF THESE EXTRAS - FOR NO ADDITIONAL COST: - 8 Piece Clay Tool Kit - Use during class and beyond! - Durable, high-quality black apron with pocket - Bag of clay - plenty to make projects during class - Glazes - Large selection of over 50+ colors including specialty glazes, all available for the pieces you create during class! - Open Studio Sessions - As a Dragonfly ceramics student, you get access to our Open Studio sessions - 2 sessions come completely free with your class enrollment! Additional clay is always available for sale at the studio at discounted rates for students - ask your instructor for details! Age Level: 16 and up - under 18 must be accompanied by a parent or guardian Cost: $188 for 6 Monday sessions Questions? Send us your thoughts using the form below, or text 757-324-5489.
URL:https://thedragonflyartstudio.com/eventer/beginner-intermediate-pottery-wheel-monday-evenings-january-17th-thru-february-21st/edate/2022-01-17
END:VEVENT
END:VCALENDAR
