BEGIN:VCALENDAR
VERSION:2.0
PRODID:Imitheme.com 
BEGIN:VEVENT
UID:20260421T071718152416023
DTSTAMP;TZID=UTC:2026-04-21 07:17:18
DTSTART;TZID=America/Los_Angeles:20221215T163000
DTEND;TZID=America/Los_Angeles:20221215T183000
SUMMARY:INTRO TO POTTERY WHEEL - THURSDAY AFTERNOON 4:30 to 6:30 - DECEMBER 15 to JANUARY 19
LOCATION:1511 Colley Avenue\, Norfolk\, VA  23517
DESCRIPTION:Our THURSDAY AFTERNOON class starts DECEMBER 15 and runs through JANUARY 19. Join us in our pottery studio for a 6 week studio course, 2 hours each Thursday afternoon starting at 4:30pm, as you explore the possibilities of creating on the wheel! THERE IS NO CLASS DECEMBER 29th. Learn the basics of working with clay and jump right on the wheel to learn and practice various throwing techniques. Each student has use of a wheel for the entire class - no waiting or taking turns! The course fee includes 12 hours of hands-on instruction time, all bisque and glaze kiln firings, plus all of the below: - Bag of clay - plenty to make projects during class. - Glazes - Large selection of over 50+ colors including specialty glazes, all available for the pieces you create during class. - Open Studio Sessions - As a Dragonfly ceramics student, you get access to our Open Studio sessions - 2 Friday or Saturday Open Studio sessions come completely free with your class enrollment. Additional clay is always available for sale at the studio at discounted rates for students - ask your instructor for details. Age Level: 14 and up - under 16 must be accompanied by a parent or guardian who is also registered for this class Cost: $199 for 6 Thursday sessions plus 2 Friday or Saturday Open Studio sessions. Required Supplies: Please bring an Apron and hand towel to class. Questions? Send us your thoughts using the form below, or text 757-324-5489.  
URL:https://thedragonflyartstudio.com/eventer/intro-to-pottery-wheel-thursday-afternoon-430-to-630-december-15-to-january-19/edate/2022-12-15
END:VEVENT
END:VCALENDAR
