BEGIN:VCALENDAR
VERSION:2.0
PRODID:Imitheme.com 
BEGIN:VEVENT
UID:20260421T085719317059494
DTSTAMP;TZID=UTC:2026-04-21 08:57:19
DTSTART;TZID=America/Los_Angeles:20221220T190000
DTEND;TZID=America/Los_Angeles:20221220T210000
SUMMARY:BEGINNER POTTERY WHEEL - TUESDAYS 7pm to 9pm - DECEMBER 20 THROUGH JANUARY 24
LOCATION:1511 Colley Avenue\, Norfolk\, VA  23517
DESCRIPTION:OUR TUESDAY EVENING POTTERY WHEEL CLASS BEGINS DECEMBER 20 AND MEETS EVERY TUESDAY 7 to 9pm THROUGH JANUARY 24. THERE IS NO CLASS DECEMBER 27. JOIN US IN OUR POTTERY STUDIO FOR A 6 WEEK STUDIO COURSE, 2 HOURS EACH TUESDAY EVENING STARTING AT 7PM, AS YOU EXPLORE THE POSSIBILITIES OF CREATING ON THE WHEEL! LEARN THE BASICS OF WORKING WITH CLAY AND JUMP RIGHT ON THE WHEEL TO LEARN AND PRACTICE VARIOUS THROWING TECHNIQUES. EACH STUDENT HAS USE OF A WHEEL FOR THE ENTIRE CLASS – NO WAITING OR TAKING TURNS! THE COURSE FEE INCLUDES 12 HOURS OF HANDS-ON INSTRUCTION TIME, ALL BISQUE AND GLAZE KILN FIRINGS, PLUS THE FOLLOWING: - Bag of clay – plenty to make projects during class - Glazes – Large selection of over 50+ colors including specialty glazes, all available for the pieces you create during class! - Open Studio Sessions – As a Dragonfly ceramics student, you get access to our Open Studio sessions – 2 Friday or Saturday sessions come completely free with your class enrollment!  ADDITIONAL CLAY IS ALWAYS AVAILABLE FOR SALE AT THE STUDIO AT DISCOUNTED RATES FOR STUDENTS – ASK YOUR INSTRUCTOR FOR DETAILS! AGE LEVEL: 12 AND UP – 16 AND UNDER MUST BE ACCOMPANIED BY A PARENT OR GUARDIAN WHO IS ALSO REGISTERED FOR THE CLASS SUPPLIES NEEDED: STUDENTS MUST SUPPLY THEIR OWN APRON AND HAND TOWEL COST: $199 FOR 6 TUESDAY SESSIONS + 2 FRIDAY OR SATURDAY OPEN STUDIO SESSIONS QUESTIONS? SEND US YOUR THOUGHTS USING THE FORM BELOW, OR TEXT 757-324-5489.   Questions? Send us your thoughts using the form below, or text 757-324-5489. 
URL:https://thedragonflyartstudio.com/eventer/beginner-pottery-wheel-tuesdays-7pm-to-9pm-december-20-through-january-24/edate/2022-12-20
END:VEVENT
END:VCALENDAR
