BEGIN:VCALENDAR
VERSION:2.0
PRODID:Imitheme.com 
BEGIN:VEVENT
UID:20260424T085852169233829
DTSTAMP;TZID=UTC:2026-04-24 08:58:52
DTSTART;TZID=America/Los_Angeles:20230428T193000
DTEND;TZID=America/Los_Angeles:20230428T213000
SUMMARY:FRIDAY EVENING POTTERY WHEEL - 2-WEEK CRASH COURSE - April 28 / May 5 - 7:30 to 9:30
LOCATION:1511 Colley Avenue\, Norfolk\, VA  23517
DESCRIPTION:FRIDAY NIGHT 2-WEEK CRASH COURSE IN POTTERY WHEEL FRIDAYS APRIL 28 & MAY 5th - 7:30 to 9:30 NEED HELP REGISTERING? TEXT 757-324-5489 NOW OUR 2-WEEK CRASH COURSE IN POTTERY WHEEL - A BEGINNER POTTERY WHEEL 2-PART CLASS - STARTS APRIL 28 AND CONCLUDES FRIDAY MAY 5, 7:30 TO 9:30pm EACH WEEK. JOIN US IN OUR POTTERY STUDIO FOR A 2-WEEK CONDENSED STUDIO COURSE, 2 HOURS EACH FRIDAY EVENING STARTING AT 7:30PM, AS YOU EXPLORE THE POSSIBILITIES OF CREATING ON THE WHEEL! NOT SURE IF YOU WANT TO COMMIT TO OUR FULL 6-WEEK COURSE? THIS SHORTER CLASS IS THE PERFECT ALTERNATIVE. LEARN THE BASICS OF WORKING WITH CLAY AND JUMP RIGHT ON THE WHEEL TO LEARN AND PRACTICE VARIOUS THROWING TECHNIQUES. EACH STUDENT HAS USE OF A WHEEL FOR THE ENTIRE CLASS – NO WAITING OR TAKING TURNS! THE COURSE FEE INCLUDES 4 HOURS OF HANDS-ON INSTRUCTION TIME, KILN FIRING, AND ALL SUPPLIES INCLUDED. AGE LEVEL: 14 AND UP – 16 AND UNDER MUST BE ACCOMPANIED BY A PARENT OR GUARDIAN WHO IS ALSO REGISTERED FOR THE CLASS. SUPPLIES NEEDED: SUPPLIES ARE INCLUDED COST: $85 FOR 2 FRIDAY SESSIONS QUESTIONS? SEND US YOUR THOUGHTS USING THE FORM BELOW, OR TEXT 757-324-5489. Questions? Send us your thoughts using the form below, or text 757-324-5489. 
URL:https://thedragonflyartstudio.com/eventer/friday-evening-pottery-wheel-2-week-crash-course-april-28-may-5-730-to-930/edate/2023-04-28
END:VEVENT
END:VCALENDAR
