BEGIN:VCALENDAR
VERSION:2.0
PRODID:Imitheme.com 
BEGIN:VEVENT
UID:20260422T030656668419944
DTSTAMP;TZID=UTC:2026-04-22 03:06:56
DTSTART;TZID=America/Los_Angeles:20230316T163000
DTEND;TZID=America/Los_Angeles:20230316T183000
SUMMARY:INTRO TO POTTERY WHEEL - THURSDAY AFTERNOON 4:30 to 6:30 - MARCH 16 to APRIL 20
LOCATION:1511 Colley Avenue\, Norfolk\, VA  23517
DESCRIPTION:  Our THURSDAY AFTERNOON class starts MARCH 16 and runs through April 20. Join us in our pottery studio for a 6 week studio course, 2 hours each Thursday afternoon starting at 4:30pm, as you explore the possibilities of creating on the wheel! Learn the basics of working with clay and jump right on the wheel to learn and practice various throwing techniques. Each student has use of a wheel for the entire class - no waiting or taking turns! The course fee includes 12 hours of hands-on instruction time, all bisque and glaze kiln firings, plus all of the below: - Bag of clay - plenty to make projects during class. - Glazes - Large selection of over 50+ colors including specialty glazes, all available for the pieces you create during class. - Open Studio Sessions - As a Dragonfly ceramics student, you get access to our Open Studio sessions - 2 Friday or Saturday Open Studio sessions come completely free with your class enrollment. Additional clay is always available for sale at the studio at discounted rates for students - ask your instructor for details. Age Level: 14 and up - under 16 must be accompanied by a parent or guardian who is also registered for this class Cost: $199 for 6 Thursday sessions plus 2 Friday or Saturday Open Studio sessions. Supplies Required: Students must supply their own apron and hand towel. Additional Policies: STUDENTS ARE REQUIRED TO ATTEND THE FIRST CLASS. Students who cannot attend the first class must switch to another session and will be charged a $35 fee. All classes are subject to The Dragonfly Art Studio policies, which can be found here. Questions? Send us your thoughts using the form below, or text 757-324-5489.  
URL:https://thedragonflyartstudio.com/eventer/intro-to-pottery-wheel-thursday-afternoon-430-to-630-march-16-to-april-20/edate/2023-03-16
END:VEVENT
END:VCALENDAR
